BEGIN:VCALENDAR
VERSION:2.0
PRODID:-//ChamberMaster//Event Calendar 2.0//EN
METHOD:PUBLISH
X-PUBLISHED-TTL:P3D
REFRESH-INTERVAL:P3D
CALSCALE:GREGORIAN
BEGIN:VEVENT
DTSTART:20170215T230000Z
DTEND:20170216T020000Z
X-MICROSOFT-CDO-ALLDAYEVENT:FALSE
SUMMARY:Music - Pro Jam with Chaz
DESCRIPTION:
X-ALT-DESC;FMTTYPE=text/html:
LOCATION:Hidden Lakes Winery\, 650 Winchester Pike\, Canal Winchester
UID:e.9051.4085
SEQUENCE:3
DTSTAMP:20260421T164053Z
URL:https://business.destinationcw.org/events/details/music-pro-jam-with-chaz-4085
END:VEVENT

END:VCALENDAR
