BEGIN:VCALENDAR
VERSION:2.0
PRODID:-//ChamberMaster//Event Calendar 2.0//EN
METHOD:PUBLISH
X-PUBLISHED-TTL:P3D
REFRESH-INTERVAL:P3D
CALSCALE:GREGORIAN
BEGIN:VEVENT
DTSTART:20170216T230000Z
DTEND:20170217T020000Z
X-MICROSOFT-CDO-ALLDAYEVENT:FALSE
SUMMARY:Music - Peter Conrad
DESCRIPTION:
X-ALT-DESC;FMTTYPE=text/html:
LOCATION:Hidden Lakes Winery\, 650 Winchester Pike\, Canal Winchester
UID:e.9051.4086
SEQUENCE:3
DTSTAMP:20260421T163900Z
URL:https://business.destinationcw.org/events/details/music-peter-conrad-4086
END:VEVENT

END:VCALENDAR
