BEGIN:VCALENDAR
VERSION:2.0
PRODID:-//ChamberMaster//Event Calendar 2.0//EN
METHOD:PUBLISH
X-PUBLISHED-TTL:P3D
REFRESH-INTERVAL:P3D
CALSCALE:GREGORIAN
BEGIN:VEVENT
DTSTART:20200904T220000Z
DTEND:20200905T010000Z
X-MICROSOFT-CDO-ALLDAYEVENT:FALSE
SUMMARY:Music in the Park
DESCRIPTION:The City of Canal Winchester invites you to enjoy a free summer concert\, Music in the Park\, on Friday\, September 4th from 6:00 p.m. to 9:00 p.m. at Stradley Park (adjacent to the city's municipal building at 36 S. High St).  The event will feature The Treble Catz   a three-member rock n' roll band playing hits ranging from classics to new rock . They brought their music to the Canal Winchester community several times throughout the years as featured entertainment at the annual Labor Day Festival. Join us for an evening of family fun!\n\n \n\nCOVID-19 Note: Unlike outdoor concerts in previous years\, concessions and hands-on children's activities will not be offered.  Attendees are encouraged to bring a picnic and a lawn chair\, and to follow recommended social distancing protocols to prevent the spread of COVID-19.\n\n \n\nFor more information\, visit www.canalwinchesterohio.gov
X-ALT-DESC;FMTTYPE=text/html:<span style="font-size:14px\;">The City of Canal Winchester invites you to enjoy a free summer concert\, <em>Music in the Park</em>\, on Friday\, September 4th from 6:00 p.m. to 9:00 p.m. at Stradley Park (adjacent to the city&rsquo\;s municipal building at 36 S. High St).&nbsp\; The event will feature The Treble Catz &ndash\; a three-member rock n&rsquo\; roll band playing hits ranging from classics to new rock .&nbsp\;They brought their music to the Canal Winchester community several times throughout the years as featured entertainment at the annual Labor Day Festival. Join us for an evening of family fun!<br />\n&nbsp\;<br />\n<strong>COVID-19 Note</strong>: Unlike outdoor concerts in previous years\, concessions and hands-on children&rsquo\;s activities will not be offered.&nbsp\; <em>Attendees are encouraged to bring a picnic and a lawn chair\, and to follow recommended social distancing protocols to prevent the spread of COVID-19</em>.</span><br />\n&nbsp\;<br />\nFor more information\, visit <a href="http://www.canalwinchesterohio.gov/">www.canalwinchesterohio.gov</a>&nbsp\;<br />\n<br />\n<br />\n&nbsp\;
LOCATION:Historic Downtown Canal Winchester (Stradley Place) 36 South High Street\, Canal Winchester\, Ohio.
UID:e.9051.9586
SEQUENCE:3
DTSTAMP:20260421T225230Z
URL:https://business.destinationcw.org/events/details/music-in-the-park-9586
END:VEVENT

END:VCALENDAR
