BEGIN:VCALENDAR
VERSION:2.0
PRODID:-//ChamberMaster//Event Calendar 2.0//EN
METHOD:PUBLISH
X-PUBLISHED-TTL:P3D
REFRESH-INTERVAL:P3D
CALSCALE:GREGORIAN
BEGIN:VEVENT
DTSTART:20170216T233000Z
DTEND:20170217T013000Z
X-MICROSOFT-CDO-ALLDAYEVENT:FALSE
SUMMARY:Music - Devon C
DESCRIPTION:
X-ALT-DESC;FMTTYPE=text/html:
LOCATION:Harvest Moon Craft Kitchen\, 7 N. High Street\, Canal Winchester
UID:e.9051.4079
SEQUENCE:3
DTSTAMP:20260421T163325Z
URL:https://business.destinationcw.org/events/details/music-devon-c-4079
END:VEVENT

END:VCALENDAR
