BEGIN:VCALENDAR
VERSION:2.0
PRODID:-//ChamberMaster//Event Calendar 2.0//EN
METHOD:PUBLISH
X-PUBLISHED-TTL:P3D
REFRESH-INTERVAL:P3D
CALSCALE:GREGORIAN
BEGIN:VEVENT
DTSTART:20180916T180000Z
DTEND:20180916T210000Z
X-MICROSOFT-CDO-ALLDAYEVENT:FALSE
SUMMARY:Music - Chaz Mechenbier
DESCRIPTION:Music by Chaz Mechenbier
X-ALT-DESC;FMTTYPE=text/html:Music by Chaz Mechenbier
LOCATION:Hidden Lakes Winery\, 650 Winchester Pike\, Canal Winchester
UID:e.9051.6359
SEQUENCE:3
DTSTAMP:20260422T223317Z
URL:https://business.destinationcw.org/events/details/music-chaz-mechenbier-6359
END:VEVENT

END:VCALENDAR
