BEGIN:VCALENDAR
VERSION:2.0
PRODID:-//ChamberMaster//Event Calendar 2.0//EN
METHOD:PUBLISH
X-PUBLISHED-TTL:P3D
REFRESH-INTERVAL:P3D
CALSCALE:GREGORIAN
BEGIN:VEVENT
DTSTART:20170616T230000Z
DTEND:20170617T020000Z
X-MICROSOFT-CDO-ALLDAYEVENT:FALSE
SUMMARY:Music by Zoo Trippin Duo
DESCRIPTION:Music by Zoo Trippin Duo
X-ALT-DESC;FMTTYPE=text/html:Music by Zoo Trippin Duo
LOCATION:Harvest Moon Craft Kitchen\, 7 N. High Street\, Canal Winchester
UID:e.9051.4168
SEQUENCE:3
DTSTAMP:20260421T224019Z
URL:https://business.destinationcw.org/events/details/music-by-zoo-trippin-duo-4168
END:VEVENT

END:VCALENDAR
