BEGIN:VCALENDAR
VERSION:2.0
PRODID:-//ChamberMaster//Event Calendar 2.0//EN
METHOD:PUBLISH
X-PUBLISHED-TTL:P3D
REFRESH-INTERVAL:P3D
CALSCALE:GREGORIAN
BEGIN:VEVENT
DTSTART:20180317T230000Z
DTEND:20180318T020000Z
X-MICROSOFT-CDO-ALLDAYEVENT:FALSE
SUMMARY:Music by Willie Nelson Mandella Jr.
DESCRIPTION:Music by Willie Nelson Mandella Jr
X-ALT-DESC;FMTTYPE=text/html:Music by Willie Nelson Mandella Jr
LOCATION:Loose Rail Brewing\, 37 W. Waterloo St\, Canal Winchester\, Ohio
UID:e.9051.5662
SEQUENCE:3
DTSTAMP:20260422T130947Z
URL:https://business.destinationcw.org/events/details/music-by-willie-nelson-mandella-jr-5662
END:VEVENT

END:VCALENDAR
