BEGIN:VCALENDAR
VERSION:2.0
PRODID:-//ChamberMaster//Event Calendar 2.0//EN
METHOD:PUBLISH
X-PUBLISHED-TTL:P3D
REFRESH-INTERVAL:P3D
CALSCALE:GREGORIAN
BEGIN:VEVENT
DTSTART:20171111T000000Z
DTEND:20171111T030000Z
X-MICROSOFT-CDO-ALLDAYEVENT:FALSE
SUMMARY:Music by Whiskey Business
DESCRIPTION:Music by Whiskey Business
X-ALT-DESC;FMTTYPE=text/html:Music by Whiskey Business
LOCATION:Harvest Moon Craft Kitchen\, 7 North High Street\, Canal Winchester\, Ohio
UID:e.9051.4234
SEQUENCE:3
DTSTAMP:20260422T081012Z
URL:https://business.destinationcw.org/events/details/music-by-whiskey-business-4234
END:VEVENT

END:VCALENDAR
