BEGIN:VCALENDAR
VERSION:2.0
PRODID:-//ChamberMaster//Event Calendar 2.0//EN
METHOD:PUBLISH
X-PUBLISHED-TTL:P3D
REFRESH-INTERVAL:P3D
CALSCALE:GREGORIAN
BEGIN:VEVENT
DTSTART:20170602T230000Z
DTEND:20170603T020000Z
X-MICROSOFT-CDO-ALLDAYEVENT:FALSE
SUMMARY:Music by Whiskey Business
DESCRIPTION:Music by Whiskey Business
X-ALT-DESC;FMTTYPE=text/html:Music by Whiskey Business
LOCATION:Harvest Moon Craft Kitchen\, 7 N. High Street\, Canal Wichester
UID:e.9051.4161
SEQUENCE:3
DTSTAMP:20260421T223858Z
URL:https://business.destinationcw.org/events/details/music-by-whiskey-business-4161
END:VEVENT

END:VCALENDAR
