BEGIN:VCALENDAR
VERSION:2.0
PRODID:-//ChamberMaster//Event Calendar 2.0//EN
METHOD:PUBLISH
X-PUBLISHED-TTL:P3D
REFRESH-INTERVAL:P3D
CALSCALE:GREGORIAN
BEGIN:VEVENT
DTSTART:20180113T000000Z
DTEND:20180113T030000Z
X-MICROSOFT-CDO-ALLDAYEVENT:FALSE
SUMMARY:Music by Tripped Up Strung Up
DESCRIPTION:Music at Loose Rails - Tripped Up Strung Up
X-ALT-DESC;FMTTYPE=text/html:Music at Loose Rails - Tripped Up Strung Up
LOCATION:37 W. Waterloo St. Canal Winchester\, Ohio 43110
UID:e.9051.4245
SEQUENCE:3
DTSTAMP:20260422T094719Z
URL:https://business.destinationcw.org/events/details/music-by-tripped-up-strung-up-4245
END:VEVENT

END:VCALENDAR
