BEGIN:VCALENDAR
VERSION:2.0
PRODID:-//ChamberMaster//Event Calendar 2.0//EN
METHOD:PUBLISH
X-PUBLISHED-TTL:P3D
REFRESH-INTERVAL:P3D
CALSCALE:GREGORIAN
BEGIN:VEVENT
DTSTART:20170630T230000Z
DTEND:20170701T020000Z
X-MICROSOFT-CDO-ALLDAYEVENT:FALSE
SUMMARY:Music by Tripped Up Strung UP
DESCRIPTION:Music by Tripped Up Strung Up
X-ALT-DESC;FMTTYPE=text/html:Music by Tripped Up Strung Up
LOCATION:Harvest Moon Craft Kitchen\, 7 N. High Street\, Canal Winchester\, Ohio
UID:e.9051.4176
SEQUENCE:3
DTSTAMP:20260421T223746Z
URL:https://business.destinationcw.org/events/details/music-by-tripped-up-strung-up-4176
END:VEVENT

END:VCALENDAR
