BEGIN:VCALENDAR
VERSION:2.0
PRODID:-//ChamberMaster//Event Calendar 2.0//EN
METHOD:PUBLISH
X-PUBLISHED-TTL:P3D
REFRESH-INTERVAL:P3D
CALSCALE:GREGORIAN
BEGIN:VEVENT
DTSTART:20170625T180000Z
DTEND:20170625T210000Z
X-MICROSOFT-CDO-ALLDAYEVENT:FALSE
SUMMARY:Music by Tim O'Conner
DESCRIPTION:Music by Tim O'Connor
X-ALT-DESC;FMTTYPE=text/html:Music by Tim O&#39\;Connor
LOCATION:Hidden Lakes Winery\, 650 Winchester Pike\, Canal Winchester\, Ohio
UID:e.9051.4179
SEQUENCE:3
DTSTAMP:20260421T223521Z
URL:https://business.destinationcw.org/events/details/music-by-tim-o-conner-4179
END:VEVENT

END:VCALENDAR
