BEGIN:VCALENDAR
VERSION:2.0
PRODID:-//ChamberMaster//Event Calendar 2.0//EN
METHOD:PUBLISH
X-PUBLISHED-TTL:P3D
REFRESH-INTERVAL:P3D
CALSCALE:GREGORIAN
BEGIN:VEVENT
DTSTART:20181125T190000Z
DTEND:20181125T220000Z
X-MICROSOFT-CDO-ALLDAYEVENT:FALSE
SUMMARY:Music by The Elderly Brothers with Brian Wilson
DESCRIPTION:Music by The Elderly Brothers and Brian Wilson
X-ALT-DESC;FMTTYPE=text/html:Music by The Elderly Brothers and Brian Wilson
LOCATION:Hidden Lakes Winery & Distillery\, 650 Winchester Pike\, Canal Winchester\, Ohio
UID:e.9051.6395
SEQUENCE:3
DTSTAMP:20260423T030116Z
URL:https://business.destinationcw.org/events/details/music-by-the-elderly-brothers-with-brian-wilson-6395
END:VEVENT

END:VCALENDAR
