BEGIN:VCALENDAR
VERSION:2.0
PRODID:-//ChamberMaster//Event Calendar 2.0//EN
METHOD:PUBLISH
X-PUBLISHED-TTL:P3D
REFRESH-INTERVAL:P3D
CALSCALE:GREGORIAN
BEGIN:VEVENT
DTSTART:20170921T223000Z
DTEND:20170922T003000Z
X-MICROSOFT-CDO-ALLDAYEVENT:FALSE
SUMMARY:Music by Steve Riggs
DESCRIPTION:Music by Steve Riggs
X-ALT-DESC;FMTTYPE=text/html:Music by Steve Riggs
LOCATION:Harvest Moon Craft Kitchen\, 7 N. High St. Canal Winchester\, Ohio 43110
UID:e.9051.4205
SEQUENCE:3
DTSTAMP:20260422T031911Z
URL:https://business.destinationcw.org/events/details/music-by-steve-riggs-4205
END:VEVENT

END:VCALENDAR
