BEGIN:VCALENDAR
VERSION:2.0
PRODID:-//ChamberMaster//Event Calendar 2.0//EN
METHOD:PUBLISH
X-PUBLISHED-TTL:P3D
REFRESH-INTERVAL:P3D
CALSCALE:GREGORIAN
BEGIN:VEVENT
DTSTART:20171013T230000Z
DTEND:20171014T020000Z
X-MICROSOFT-CDO-ALLDAYEVENT:FALSE
SUMMARY:Music by Sandy Tar Brothers
DESCRIPTION:Musical entertainment by Sandy Tar Brothers
X-ALT-DESC;FMTTYPE=text/html:Musical entertainment by Sandy Tar Brothers
LOCATION:Harvest Moon Craft Kitchen\, 7 N. High Street\, Canal Winchester\, Ohio
UID:e.9051.4221
SEQUENCE:3
DTSTAMP:20260422T045547Z
URL:https://business.destinationcw.org/events/details/music-by-sandy-tar-brothers-4221
END:VEVENT

END:VCALENDAR
