BEGIN:VCALENDAR
VERSION:2.0
PRODID:-//ChamberMaster//Event Calendar 2.0//EN
METHOD:PUBLISH
X-PUBLISHED-TTL:P3D
REFRESH-INTERVAL:P3D
CALSCALE:GREGORIAN
BEGIN:VEVENT
DTSTART:20170706T230000Z
DTEND:20170707T010000Z
X-MICROSOFT-CDO-ALLDAYEVENT:FALSE
SUMMARY:Music by Ryan Smith
DESCRIPTION:Music by Ryan Smith
X-ALT-DESC;FMTTYPE=text/html:Music by Ryan Smith
LOCATION:Harvest Moon Craft Kitchen\, 7 N. High St.\, Canal Winchester\, Ohio
UID:e.9051.4181
SEQUENCE:3
DTSTAMP:20260422T013719Z
URL:https://business.destinationcw.org/events/details/music-by-ryan-smith-4181
END:VEVENT

END:VCALENDAR
