BEGIN:VCALENDAR
VERSION:2.0
PRODID:-//ChamberMaster//Event Calendar 2.0//EN
METHOD:PUBLISH
X-PUBLISHED-TTL:P3D
REFRESH-INTERVAL:P3D
CALSCALE:GREGORIAN
BEGIN:VEVENT
DTSTART:20171103T230000Z
DTEND:20171104T020000Z
X-MICROSOFT-CDO-ALLDAYEVENT:FALSE
SUMMARY:Music by River Maps
DESCRIPTION:Music by River Maps
X-ALT-DESC;FMTTYPE=text/html:Music by River Maps
LOCATION:Harvest Moon Craft Kitchen\, 7 North High Street\, Canal Winchester\, Ohio
UID:e.9051.4231
SEQUENCE:3
DTSTAMP:20260422T062242Z
URL:https://business.destinationcw.org/events/details/music-by-river-maps-4231
END:VEVENT

END:VCALENDAR
