BEGIN:VCALENDAR
VERSION:2.0
PRODID:-//ChamberMaster//Event Calendar 2.0//EN
METHOD:PUBLISH
X-PUBLISHED-TTL:P3D
REFRESH-INTERVAL:P3D
CALSCALE:GREGORIAN
BEGIN:VEVENT
DTSTART:20180825T220000Z
DTEND:20180826T010000Z
X-MICROSOFT-CDO-ALLDAYEVENT:FALSE
SUMMARY:Music by Right on Main - Boom Boom & Cheatham
DESCRIPTION:Music by Right on Main - Boom Boom Cheatham
X-ALT-DESC;FMTTYPE=text/html:Music by Right on Main - Boom Boom Cheatham
LOCATION:Hidden Lakes Winery\, 650 Winchester Pike\, Canal Winchester\, Ohio 43110
UID:e.9051.6131
SEQUENCE:3
DTSTAMP:20260422T223437Z
URL:https://business.destinationcw.org/events/details/music-by-right-on-main-boom-boom-cheatham-6131
END:VEVENT

END:VCALENDAR
