BEGIN:VCALENDAR
VERSION:2.0
PRODID:-//ChamberMaster//Event Calendar 2.0//EN
METHOD:PUBLISH
X-PUBLISHED-TTL:P3D
REFRESH-INTERVAL:P3D
CALSCALE:GREGORIAN
BEGIN:VEVENT
DTSTART:20170617T220000Z
DTEND:20170618T010000Z
X-MICROSOFT-CDO-ALLDAYEVENT:FALSE
SUMMARY:Music by Right on Main
DESCRIPTION:Music by Right on Main
X-ALT-DESC;FMTTYPE=text/html:Music by Right on Main
LOCATION:Hidden Lakes Winery\, 650 Winchester Pike\, Canal Winchester\, Ohio
UID:e.9051.4170
SEQUENCE:3
DTSTAMP:20260421T235826Z
URL:https://business.destinationcw.org/events/details/music-by-right-on-main-4170
END:VEVENT

END:VCALENDAR
