BEGIN:VCALENDAR
VERSION:2.0
PRODID:-//ChamberMaster//Event Calendar 2.0//EN
METHOD:PUBLISH
X-PUBLISHED-TTL:P3D
REFRESH-INTERVAL:P3D
CALSCALE:GREGORIAN
BEGIN:VEVENT
DTSTART:20180902T180000Z
DTEND:20180902T210000Z
X-MICROSOFT-CDO-ALLDAYEVENT:FALSE
SUMMARY:Music by Rick Bars
DESCRIPTION:Music by Rick Barr
X-ALT-DESC;FMTTYPE=text/html:Music by Rick Barr
LOCATION:Hidden Lakes Winery\, 650 Winchester Pike\, Canal Winchester\, Oh
UID:e.9051.6133
SEQUENCE:3
DTSTAMP:20260422T223310Z
URL:https://business.destinationcw.org/events/details/music-by-rick-bars-6133
END:VEVENT

END:VCALENDAR
