BEGIN:VCALENDAR
VERSION:2.0
PRODID:-//ChamberMaster//Event Calendar 2.0//EN
METHOD:PUBLISH
X-PUBLISHED-TTL:P3D
REFRESH-INTERVAL:P3D
CALSCALE:GREGORIAN
BEGIN:VEVENT
DTSTART:20180928T230000Z
DTEND:20180929T020000Z
X-MICROSOFT-CDO-ALLDAYEVENT:FALSE
SUMMARY:Music by R & R Acoustic Live
DESCRIPTION:Music by R & R Acoustic Live
X-ALT-DESC;FMTTYPE=text/html:Music by R &amp\; R Acoustic Live
LOCATION:Loose Rail Brewing\, 37 W. Waterloo St\, Canal Winchester\, Ohio
UID:e.9051.6358
SEQUENCE:3
DTSTAMP:20260422T223511Z
URL:https://business.destinationcw.org/events/details/music-by-r-r-acoustic-live-6358
END:VEVENT

END:VCALENDAR
