BEGIN:VCALENDAR
VERSION:2.0
PRODID:-//ChamberMaster//Event Calendar 2.0//EN
METHOD:PUBLISH
X-PUBLISHED-TTL:P3D
REFRESH-INTERVAL:P3D
CALSCALE:GREGORIAN
BEGIN:VEVENT
DTSTART:20181107T230000Z
DTEND:20181108T020000Z
X-MICROSOFT-CDO-ALLDAYEVENT:FALSE
SUMMARY:Music by Pro Jam & Chaz Mechenbier
DESCRIPTION:Music by Pro Jam & Chaz Mechenbier
X-ALT-DESC;FMTTYPE=text/html:Music by Pro Jam &amp\; Chaz Mechenbier
LOCATION:Hidden Lakes Winery & Distillery\, 650 Winchester Pike\, Canal Winchester\, Ohio
UID:e.9051.6388
SEQUENCE:3
DTSTAMP:20260423T014009Z
URL:https://business.destinationcw.org/events/details/music-by-pro-jam-chaz-mechenbier-6388
END:VEVENT

END:VCALENDAR
