BEGIN:VCALENDAR
VERSION:2.0
PRODID:-//ChamberMaster//Event Calendar 2.0//EN
METHOD:PUBLISH
X-PUBLISHED-TTL:P3D
REFRESH-INTERVAL:P3D
CALSCALE:GREGORIAN
BEGIN:VEVENT
DTSTART:20181027T230000Z
DTEND:20181028T020000Z
X-MICROSOFT-CDO-ALLDAYEVENT:FALSE
SUMMARY:Music by Peter Conrad
DESCRIPTION:Music by Peter Conrad
X-ALT-DESC;FMTTYPE=text/html:Music by Peter Conrad
LOCATION:Loose Rail Brewing\, 37 W. Waterloo St.\, Canal Winchester\, Ohio
UID:e.9051.6383
SEQUENCE:3
DTSTAMP:20260423T000112Z
URL:https://business.destinationcw.org/events/details/music-by-peter-conrad-6383
END:VEVENT

END:VCALENDAR
