BEGIN:VCALENDAR
VERSION:2.0
PRODID:-//ChamberMaster//Event Calendar 2.0//EN
METHOD:PUBLISH
X-PUBLISHED-TTL:P3D
REFRESH-INTERVAL:P3D
CALSCALE:GREGORIAN
BEGIN:VEVENT
DTSTART:20171104T230000Z
DTEND:20171105T020000Z
X-MICROSOFT-CDO-ALLDAYEVENT:FALSE
SUMMARY:Music by Open Highway Bluegrass Band
DESCRIPTION:Music by Open Highway Bluegrass Band
X-ALT-DESC;FMTTYPE=text/html:Music by Open Highway Bluegrass Band
LOCATION:Harvest Moon Craft Kitchen\, 7 North High Street\, Canal Winchester\, Ohio
UID:e.9051.4232
SEQUENCE:3
DTSTAMP:20260422T063715Z
URL:https://business.destinationcw.org/events/details/music-by-open-highway-bluegrass-band-4232
END:VEVENT

END:VCALENDAR
