BEGIN:VCALENDAR
VERSION:2.0
PRODID:-//ChamberMaster//Event Calendar 2.0//EN
METHOD:PUBLISH
X-PUBLISHED-TTL:P3D
REFRESH-INTERVAL:P3D
CALSCALE:GREGORIAN
BEGIN:VEVENT
DTSTART:20170506T230000Z
DTEND:20170507T010000Z
X-MICROSOFT-CDO-ALLDAYEVENT:FALSE
SUMMARY:Music by Nick D
DESCRIPTION:Musical entertainment by Nick D
X-ALT-DESC;FMTTYPE=text/html:Musical entertainment by Nick D
LOCATION:Harvest Moon Craft Kitchen\, 7 N. High Street\, Canal Winchester\, Ohio
UID:e.9051.4123
SEQUENCE:3
DTSTAMP:20260421T205416Z
URL:https://business.destinationcw.org/events/details/music-by-nick-d-4123
END:VEVENT

END:VCALENDAR
