BEGIN:VCALENDAR
VERSION:2.0
PRODID:-//ChamberMaster//Event Calendar 2.0//EN
METHOD:PUBLISH
X-PUBLISHED-TTL:P3D
REFRESH-INTERVAL:P3D
CALSCALE:GREGORIAN
BEGIN:VEVENT
DTSTART:20170617T230000Z
DTEND:20170618T013000Z
X-MICROSOFT-CDO-ALLDAYEVENT:FALSE
SUMMARY:Music by Matt Monta
DESCRIPTION:Music by Matt Monta
X-ALT-DESC;FMTTYPE=text/html:Music by Matt Monta
LOCATION:Harvest Moon Craft Kitchen\, 7 N. High Street\, Canal Winchester\, Ohio
UID:e.9051.4171
SEQUENCE:3
DTSTAMP:20260421T223528Z
URL:https://business.destinationcw.org/events/details/music-by-matt-monta-4171
END:VEVENT

END:VCALENDAR
