BEGIN:VCALENDAR
VERSION:2.0
PRODID:-//ChamberMaster//Event Calendar 2.0//EN
METHOD:PUBLISH
X-PUBLISHED-TTL:P3D
REFRESH-INTERVAL:P3D
CALSCALE:GREGORIAN
BEGIN:VEVENT
DTSTART:20190110T230000Z
DTEND:20190111T020000Z
X-MICROSOFT-CDO-ALLDAYEVENT:FALSE
SUMMARY:Music by Hot Rod Lincolns and Greg Dickson
DESCRIPTION:Musical Entertainment by The Hot Red Lincolns and Greg Dickson
X-ALT-DESC;FMTTYPE=text/html:Musical Entertainment by The Hot Red Lincolns and&nbsp\;Greg Dickson
LOCATION:Hidden Lakes Winery\, 650 Winchester Pike\, Canal Winchester\, Ohio 43110
UID:e.9051.6622
SEQUENCE:3
DTSTAMP:20260423T054759Z
URL:https://business.destinationcw.org/events/details/music-by-hot-rod-lincolns-and-greg-dickson-6622
END:VEVENT

END:VCALENDAR
