BEGIN:VCALENDAR
VERSION:2.0
PRODID:-//ChamberMaster//Event Calendar 2.0//EN
METHOD:PUBLISH
X-PUBLISHED-TTL:P3D
REFRESH-INTERVAL:P3D
CALSCALE:GREGORIAN
BEGIN:VEVENT
DTSTART:20170608T230000Z
DTEND:20170609T010000Z
X-MICROSOFT-CDO-ALLDAYEVENT:FALSE
SUMMARY:Music by George Barrie
DESCRIPTION:Music by George Barrie
X-ALT-DESC;FMTTYPE=text/html:Music by George Barrie
LOCATION:Harvest Moon Craft Kitchen\, 7 N. High Street\, Canal Winchester\, Ohio
UID:e.9051.4162
SEQUENCE:3
DTSTAMP:20260421T223619Z
URL:https://business.destinationcw.org/events/details/music-by-george-barrie-4162
END:VEVENT

END:VCALENDAR
