BEGIN:VCALENDAR
VERSION:2.0
PRODID:-//ChamberMaster//Event Calendar 2.0//EN
METHOD:PUBLISH
X-PUBLISHED-TTL:P3D
REFRESH-INTERVAL:P3D
CALSCALE:GREGORIAN
BEGIN:VEVENT
DTSTART:20170629T220000Z
DTEND:20170630T010000Z
X-MICROSOFT-CDO-ALLDAYEVENT:FALSE
SUMMARY:Music by Dr. Dan Stambaugh
DESCRIPTION:Music by Dr. Dan Stambaugh
X-ALT-DESC;FMTTYPE=text/html:Music by Dr. Dan Stambaugh
LOCATION:Hidden Lakes Winery\, 650 Winchester Pike\, Canal Winchester\, Ohio
UID:e.9051.4180
SEQUENCE:3
DTSTAMP:20260421T223408Z
URL:https://business.destinationcw.org/events/details/music-by-dr-dan-stambaugh-4180
END:VEVENT

END:VCALENDAR
