BEGIN:VCALENDAR
VERSION:2.0
PRODID:-//ChamberMaster//Event Calendar 2.0//EN
METHOD:PUBLISH
X-PUBLISHED-TTL:P3D
REFRESH-INTERVAL:P3D
CALSCALE:GREGORIAN
BEGIN:VEVENT
DTSTART:20170504T223000Z
DTEND:20170505T003000Z
X-MICROSOFT-CDO-ALLDAYEVENT:FALSE
SUMMARY:Music by Dr. Dan
DESCRIPTION:Music by Dr. Dan
X-ALT-DESC;FMTTYPE=text/html:Music by Dr. Dan
LOCATION:Harvest Moon Craft Kitchen\, 7 N. High St. Canal Winchester\, Ohio
UID:e.9051.4120
SEQUENCE:3
DTSTAMP:20260421T222911Z
URL:https://business.destinationcw.org/events/details/music-by-dr-dan-4120
END:VEVENT

END:VCALENDAR
