BEGIN:VCALENDAR
VERSION:2.0
PRODID:-//ChamberMaster//Event Calendar 2.0//EN
METHOD:PUBLISH
X-PUBLISHED-TTL:P3D
REFRESH-INTERVAL:P3D
CALSCALE:GREGORIAN
BEGIN:VEVENT
DTSTART;VALUE=DATE:20180817
DTEND;VALUE=DATE:20180818
TRANSP:TRANSPARENT
X-MICROSOFT-CDO-ALLDAYEVENT:TRUE
SUMMARY:Music by Coal Cave Hollow Boys/ Little Kitchen Food Truck
DESCRIPTION:Coal Cave Hollow Boys and Little Kitchen Food Truck
X-ALT-DESC;FMTTYPE=text/html:Coal Cave Hollow Boys and Little Kitchen Food Truck
LOCATION:37 W. Waterloo\, Canal Winchester\, Ohio
UID:e.9051.6126
SEQUENCE:3
DTSTAMP:20260422T210727Z
URL:https://business.destinationcw.org/events/details/music-by-coal-cave-hollow-boys-little-kitchen-food-truck-6126
END:VEVENT

END:VCALENDAR
