BEGIN:VCALENDAR
VERSION:2.0
PRODID:-//ChamberMaster//Event Calendar 2.0//EN
METHOD:PUBLISH
X-PUBLISHED-TTL:P3D
REFRESH-INTERVAL:P3D
CALSCALE:GREGORIAN
BEGIN:VEVENT
DTSTART:20180817T210000Z
DTEND:20180818T020000Z
X-MICROSOFT-CDO-ALLDAYEVENT:FALSE
SUMMARY:Music by Coal Cave Hollow Boys/Little Kitchen Food Truck
DESCRIPTION:Music by Coal Cave Hollow Boys.  Food provided by Little Kitchen Food Truck
X-ALT-DESC;FMTTYPE=text/html:Music by Coal Cave Hollow Boys.&nbsp\; Food provided by Little Kitchen Food Truck
LOCATION:Loose Rail Brewing\, 37 West Waterloo St.\, Canal Winchester\, Ohio 43110
UID:e.9051.6125
SEQUENCE:3
DTSTAMP:20260422T210749Z
URL:https://business.destinationcw.org/events/details/music-by-coal-cave-hollow-boys-little-kitchen-food-truck-6125
END:VEVENT

END:VCALENDAR
