BEGIN:VCALENDAR
VERSION:2.0
PRODID:-//ChamberMaster//Event Calendar 2.0//EN
METHOD:PUBLISH
X-PUBLISHED-TTL:P3D
REFRESH-INTERVAL:P3D
CALSCALE:GREGORIAN
BEGIN:VEVENT
DTSTART:20180120T000000Z
DTEND:20180120T030000Z
X-MICROSOFT-CDO-ALLDAYEVENT:FALSE
SUMMARY:Music by Coal Cave Hollow Boys
DESCRIPTION:Music at Loose Rail Brewing - Coal Cave Hollow Boys
X-ALT-DESC;FMTTYPE=text/html:Music at Loose Rail Brewing - Coal Cave Hollow Boys
LOCATION:37 W. Waterloo St.\, Canal Winchester\, Ohio 43110
UID:e.9051.4246
SEQUENCE:3
DTSTAMP:20260422T094516Z
URL:https://business.destinationcw.org/events/details/music-by-coal-cave-hollow-boys-4246
END:VEVENT

END:VCALENDAR
