BEGIN:VCALENDAR
VERSION:2.0
PRODID:-//ChamberMaster//Event Calendar 2.0//EN
METHOD:PUBLISH
X-PUBLISHED-TTL:P3D
REFRESH-INTERVAL:P3D
CALSCALE:GREGORIAN
BEGIN:VEVENT
DTSTART:20180722T180000Z
DTEND:20180722T210000Z
X-MICROSOFT-CDO-ALLDAYEVENT:FALSE
SUMMARY:Music by Chaz Mechenbier
DESCRIPTION:Music by Chaz Mechenbier
X-ALT-DESC;FMTTYPE=text/html:Music by Chaz Mechenbier
LOCATION:Hidden Lakes Winery\, 650 Winchester Pike\, Canal Winchester\, Ohio
UID:e.9051.5917
SEQUENCE:3
DTSTAMP:20260422T192237Z
URL:https://business.destinationcw.org/events/details/music-by-chaz-mechenbier-5917
END:VEVENT

END:VCALENDAR
