BEGIN:VCALENDAR
VERSION:2.0
PRODID:-//ChamberMaster//Event Calendar 2.0//EN
METHOD:PUBLISH
X-PUBLISHED-TTL:P3D
REFRESH-INTERVAL:P3D
CALSCALE:GREGORIAN
BEGIN:VEVENT
DTSTART:20170611T180000Z
DTEND:20170611T210000Z
X-MICROSOFT-CDO-ALLDAYEVENT:FALSE
SUMMARY:Music by Chaz Mechenbier
DESCRIPTION:Music by Chaz Mechenbier
X-ALT-DESC;FMTTYPE=text/html:Music by Chaz Mechenbier
LOCATION:650 Winchester Pike\, Canal Winchester\, Ohio
UID:e.9051.4166
SEQUENCE:3
DTSTAMP:20260421T223532Z
URL:https://business.destinationcw.org/events/details/music-by-chaz-mechenbier-4166
END:VEVENT

END:VCALENDAR
