BEGIN:VCALENDAR
VERSION:2.0
PRODID:-//ChamberMaster//Event Calendar 2.0//EN
METHOD:PUBLISH
X-PUBLISHED-TTL:P3D
REFRESH-INTERVAL:P3D
CALSCALE:GREGORIAN
BEGIN:VEVENT
DTSTART:20170623T230000Z
DTEND:20170624T020000Z
X-MICROSOFT-CDO-ALLDAYEVENT:FALSE
SUMMARY:Music by Apple & The Moon
DESCRIPTION:Music by Apple & The Moon
X-ALT-DESC;FMTTYPE=text/html:Music by Apple &amp\; The Moon
LOCATION:Harvest Moon Craft Kitchen\, 7 N. High Street\, Canal Winchester\, Ohio
UID:e.9051.4174
SEQUENCE:3
DTSTAMP:20260421T223531Z
URL:https://business.destinationcw.org/events/details/music-by-apple-the-moon-4174
END:VEVENT

END:VCALENDAR
