BEGIN:VCALENDAR
VERSION:2.0
PRODID:-//ChamberMaster//Event Calendar 2.0//EN
METHOD:PUBLISH
X-PUBLISHED-TTL:P3D
REFRESH-INTERVAL:P3D
CALSCALE:GREGORIAN
BEGIN:VEVENT
DTSTART:20170713T230000Z
DTEND:20170714T010000Z
X-MICROSOFT-CDO-ALLDAYEVENT:FALSE
SUMMARY:Music by Annie Hawe
DESCRIPTION:Music by Annie Hawe
X-ALT-DESC;FMTTYPE=text/html:Music by Annie Hawe
LOCATION:Harvest Moon Craft Kitchen\, 7 N. High St\, Canal Winchester\, Ohio
UID:e.9051.4183
SEQUENCE:3
DTSTAMP:20260421T235817Z
URL:https://business.destinationcw.org/events/details/music-by-annie-hawe-4183
END:VEVENT

END:VCALENDAR
