BEGIN:VCALENDAR
VERSION:2.0
PRODID:-//ChamberMaster//Event Calendar 2.0//EN
METHOD:PUBLISH
X-PUBLISHED-TTL:P3D
REFRESH-INTERVAL:P3D
CALSCALE:GREGORIAN
BEGIN:VEVENT
DTSTART:20170614T220000Z
DTEND:20170615T010000Z
X-MICROSOFT-CDO-ALLDAYEVENT:FALSE
SUMMARY:Music by AJ Angelo
DESCRIPTION:Music by AJ Angelo
X-ALT-DESC;FMTTYPE=text/html:Music by AJ Angelo
LOCATION:Hidden Lakes Winery\, 650 Winchester Pike\, Canal Winchester\, Ohio
UID:e.9051.4169
SEQUENCE:3
DTSTAMP:20260421T235817Z
URL:https://business.destinationcw.org/events/details/music-by-aj-angelo-4169
END:VEVENT

END:VCALENDAR
