BEGIN:VCALENDAR
VERSION:2.0
PRODID:-//ChamberMaster//Event Calendar 2.0//EN
METHOD:PUBLISH
X-PUBLISHED-TTL:P3D
REFRESH-INTERVAL:P3D
CALSCALE:GREGORIAN
BEGIN:VEVENT
DTSTART:20180121T000000Z
DTEND:20180121T030000Z
X-MICROSOFT-CDO-ALLDAYEVENT:FALSE
SUMMARY:Music at Loose Rail Brewing - The Shaw Brothers
DESCRIPTION:Music at Loose Rail Brewing - The Shaw Brothers
X-ALT-DESC;FMTTYPE=text/html:Music at Loose Rail Brewing - The Shaw Brothers
LOCATION:37 W. Waterloo St.\, Canal Winchester\, Ohio 43110
UID:e.9051.4247
SEQUENCE:3
DTSTAMP:20260422T094938Z
URL:https://business.destinationcw.org/events/details/music-at-loose-rail-brewing-the-shaw-brothers-4247
END:VEVENT

END:VCALENDAR
