BEGIN:VCALENDAR
VERSION:2.0
PRODID:-//ChamberMaster//Event Calendar 2.0//EN
METHOD:PUBLISH
X-PUBLISHED-TTL:P3D
REFRESH-INTERVAL:P3D
CALSCALE:GREGORIAN
BEGIN:VEVENT
DTSTART:20180920T220000Z
DTEND:20180921T010000Z
X-MICROSOFT-CDO-ALLDAYEVENT:FALSE
SUMMARY:Music at Hidden Lakes Winery - The Hot Rod Lincolns
DESCRIPTION:Music at Hidden Lakes Winery - The Hot Rod Lincolns
X-ALT-DESC;FMTTYPE=text/html:Music at Hidden Lakes Winery - The Hot Rod Lincolns
LOCATION:650 Winchester Pike\, Canal Winchester\, Ohio 43110
UID:e.9051.6361
SEQUENCE:3
DTSTAMP:20260422T223654Z
URL:https://business.destinationcw.org/events/details/music-at-hidden-lakes-winery-the-hot-rod-lincolns-6361
END:VEVENT

END:VCALENDAR
