BEGIN:VCALENDAR
VERSION:2.0
PRODID:-//ChamberMaster//Event Calendar 2.0//EN
METHOD:PUBLISH
X-PUBLISHED-TTL:P3D
REFRESH-INTERVAL:P3D
CALSCALE:GREGORIAN
BEGIN:VEVENT
DTSTART:20180111T230000Z
DTEND:20180112T020000Z
X-MICROSOFT-CDO-ALLDAYEVENT:FALSE
SUMMARY:Music at Hidden Lakes Winery - The Hot Rod Lincolns
DESCRIPTION:Music at Hidden Lakes Winery - The Hot Rod Lincolns
X-ALT-DESC;FMTTYPE=text/html:Music at Hidden Lakes Winery - The Hot Rod Lincolns
LOCATION:650 Winchester Pike\, Canal Winchester\, Ohio 43110
UID:e.9051.4248
SEQUENCE:3
DTSTAMP:20260422T095204Z
URL:https://business.destinationcw.org/events/details/music-at-hidden-lakes-winery-the-hot-rod-lincolns-4248
END:VEVENT

END:VCALENDAR
