BEGIN:VCALENDAR
VERSION:2.0
PRODID:-//ChamberMaster//Event Calendar 2.0//EN
METHOD:PUBLISH
X-PUBLISHED-TTL:P3D
REFRESH-INTERVAL:P3D
CALSCALE:GREGORIAN
BEGIN:VEVENT
DTSTART:20180117T230000Z
DTEND:20180118T020000Z
X-MICROSOFT-CDO-ALLDAYEVENT:FALSE
SUMMARY:Music at Hidden Lakes Winery - Pro Jam with Chez Mechenbier
DESCRIPTION:Music at Hidden Lakes Winery - Pro Jam with Chez Mechenbier
X-ALT-DESC;FMTTYPE=text/html:Music at Hidden Lakes Winery - Pro Jam with Chez Mechenbier
LOCATION:650 Winchester Pike\, Canal Winchester\, Ohio 43110
UID:e.9051.4249
SEQUENCE:3
DTSTAMP:20260422T094852Z
URL:https://business.destinationcw.org/events/details/music-at-hidden-lakes-winery-pro-jam-with-chez-mechenbier-4249
END:VEVENT

END:VCALENDAR
