BEGIN:VCALENDAR
VERSION:2.0
PRODID:-//ChamberMaster//Event Calendar 2.0//EN
METHOD:PUBLISH
X-PUBLISHED-TTL:P3D
REFRESH-INTERVAL:P3D
CALSCALE:GREGORIAN
BEGIN:VEVENT
DTSTART:20180118T230000Z
DTEND:20180119T020000Z
X-MICROSOFT-CDO-ALLDAYEVENT:FALSE
SUMMARY:Music at Hidden Lakes Winery - Cortney Gail & Joey Rauchis
DESCRIPTION:Music at Hidden Lakes Winery - Cortney Gail & Joey Rauchis
X-ALT-DESC;FMTTYPE=text/html:Music at Hidden Lakes Winery - Cortney Gail &amp\; Joey Rauchis
LOCATION:Hidden Lakes Winery\, 650 Winchester Pike\, Canal Winchester\, Ohio 43110
UID:e.9051.4250
SEQUENCE:3
DTSTAMP:20260422T095111Z
URL:https://business.destinationcw.org/events/details/music-at-hidden-lakes-winery-cortney-gail-joey-rauchis-4250
END:VEVENT

END:VCALENDAR
