BEGIN:VCALENDAR
VERSION:2.0
PRODID:-//ChamberMaster//Event Calendar 2.0//EN
METHOD:PUBLISH
X-PUBLISHED-TTL:P3D
REFRESH-INTERVAL:P3D
CALSCALE:GREGORIAN
BEGIN:VEVENT
DTSTART:20180121T190000Z
DTEND:20180121T220000Z
X-MICROSOFT-CDO-ALLDAYEVENT:FALSE
SUMMARY:Music at Hidden Lakes Winery
DESCRIPTION:Music at Hidden Lakes Winery - Dan Stambaugh
X-ALT-DESC;FMTTYPE=text/html:Music at Hidden Lakes Winery - Dan Stambaugh
LOCATION:650 Winchester Pike\, Canal Winchester\, Ohio 43110
UID:e.9051.4251
SEQUENCE:3
DTSTAMP:20260422T111957Z
URL:https://business.destinationcw.org/events/details/music-at-hidden-lakes-winery-4251
END:VEVENT

END:VCALENDAR
