BEGIN:VCALENDAR
VERSION:2.0
PRODID:-//ChamberMaster//Event Calendar 2.0//EN
METHOD:PUBLISH
X-PUBLISHED-TTL:P3D
REFRESH-INTERVAL:P3D
CALSCALE:GREGORIAN
BEGIN:VEVENT
DTSTART:20180615T220000Z
DTEND:20180616T010000Z
X-MICROSOFT-CDO-ALLDAYEVENT:FALSE
SUMMARY:Music & Art in the Park
DESCRIPTION:Music by Waterloo5 today at Music and Art in the Park  a free summer concert series held the third Friday of May\, June\, and July\, featuring live entertainment\, art demonstrations\, and activities at Stradley Place (located next to the city municipal building at 36 S. High St). in historic downtown\n\n\n\nCanal Winchester.Attendees are encouraged to bring portable chairs or blankets and enjoy a free summer evening concert. Concerts are from 6:30 p.m. to 9:30 p.m. For more information contact Amanda Lemke (614) 834-9915.
X-ALT-DESC;FMTTYPE=text/html:Music by Waterloo5 today at <span>Music and Art in the Park&nbsp\; a free summer concert series held the third Friday of May\, June\, and July\, featuring&nbsp\;live entertainment\, art demonstrations\, and activities at Stradley Place (located next to the city municipal building at 36 S. High St). in historic downtown<br />\n<br />\nCanal Winchester.</span>Attendees are encouraged to bring portable chairs or blankets and enjoy a free summer evening concert. Concerts are from 6:30 p.m. to 9:30 p.m. For more information contact Amanda Lemke&nbsp\;(614) 834-9915.<br />\n<br />\n&nbsp\;
LOCATION:Historic Downtown Canal Winchester (Stradley Place) on South High Street
UID:e.9051.5905
SEQUENCE:3
DTSTAMP:20260422T191439Z
URL:https://business.destinationcw.org/events/details/music-art-in-the-park-5905
END:VEVENT

END:VCALENDAR
