BEGIN:VCALENDAR
VERSION:2.0
PRODID:-//ChamberMaster//Event Calendar 2.0//EN
METHOD:PUBLISH
X-PUBLISHED-TTL:P3D
REFRESH-INTERVAL:P3D
CALSCALE:GREGORIAN
BEGIN:VEVENT
DTSTART:20180518T223000Z
DTEND:20180519T013000Z
X-MICROSOFT-CDO-ALLDAYEVENT:FALSE
SUMMARY:Music & Art in the Park
DESCRIPTION:Guests are invited to enjoy the arts\, live entertainment by Usual Suspects and Repeat Offenders\, and family friendly activities.  Bring portable chairs or blankets and a picnic\, if you wish (no alcoholic beverages).
X-ALT-DESC;FMTTYPE=text/html:Guests are invited to enjoy the arts\, live entertainment by Usual Suspects and Repeat Offenders\, and family friendly activities.&nbsp\; Bring portable chairs or blankets and a picnic\, if you wish (no alcoholic beverages).
LOCATION:Stradley Place just north of the city municipal building at 36 S. High Street in historic downtown Canal Winchester.
UID:e.9051.5888
SEQUENCE:3
DTSTAMP:20260422T174153Z
URL:https://business.destinationcw.org/events/details/music-art-in-the-park-5888
END:VEVENT

END:VCALENDAR
