BEGIN:VCALENDAR
VERSION:2.0
PRODID:-//ChamberMaster//Event Calendar 2.0//EN
METHOD:PUBLISH
X-PUBLISHED-TTL:P3D
REFRESH-INTERVAL:P3D
CALSCALE:GREGORIAN
BEGIN:VEVENT
DTSTART:20170218T000000Z
DTEND:20170218T030000Z
X-MICROSOFT-CDO-ALLDAYEVENT:FALSE
SUMMARY:Music - Apple & The Moon
DESCRIPTION:
X-ALT-DESC;FMTTYPE=text/html:
LOCATION:Harvest Moon Craft Kitchen\, 7 N. High St. Canal Winchester
UID:e.9051.4080
SEQUENCE:3
DTSTAMP:20260421T180127Z
URL:https://business.destinationcw.org/events/details/music-apple-the-moon-4080
END:VEVENT

END:VCALENDAR
