BEGIN:VCALENDAR
VERSION:2.0
PRODID:-//ChamberMaster//Event Calendar 2.0//EN
METHOD:PUBLISH
X-PUBLISHED-TTL:P3D
REFRESH-INTERVAL:P3D
CALSCALE:GREGORIAN
BEGIN:VEVENT
DTSTART:20170519T230000Z
DTEND:20170520T020000Z
X-MICROSOFT-CDO-ALLDAYEVENT:FALSE
SUMMARY:Muscial Entertainment by Van Dyke Trio
DESCRIPTION:Musical Entertainment by Van Dyke Trio
X-ALT-DESC;FMTTYPE=text/html:Musical Entertainment by Van Dyke Trio
LOCATION:Harvest Moon Craft Kitchen\, 7 N. High Street\, Canal Winchester\, Ohio
UID:e.9051.4128
SEQUENCE:3
DTSTAMP:20260421T211246Z
URL:https://business.destinationcw.org/events/details/muscial-entertainment-by-van-dyke-trio-4128
END:VEVENT

END:VCALENDAR
