BEGIN:VCALENDAR
VERSION:2.0
PRODID:-//ChamberMaster//Event Calendar 2.0//EN
METHOD:PUBLISH
X-PUBLISHED-TTL:P3D
REFRESH-INTERVAL:P3D
CALSCALE:GREGORIAN
BEGIN:VEVENT
DTSTART:20171109T220000Z
DTEND:20171110T020000Z
X-MICROSOFT-CDO-ALLDAYEVENT:FALSE
SUMMARY:Moonlight Mistletoe Shop Hop
DESCRIPTION:Join us for a fun filled evening of shopping\, drinks\, snacks\, and raffle baskets! Bring Friends and swing by all the participating locations!  Shops will be filled with their holiday decorations.  Great time to get started on your Christmas shopping!
X-ALT-DESC;FMTTYPE=text/html:<span class="_4n-j _3cht fsl" data-testid="event-permalink-details">Join us for a fun filled evening of shopping\, drinks\, snacks\, and raffle baskets! Bring Friends and swing by all the participating locations!&nbsp\; Shops will be filled with their holiday decorations.&nbsp\; Great time to get started on your Christmas shopping!</span>
LOCATION:Historic Downtown Canal Winchester\, Ohio
UID:e.9051.4227
SEQUENCE:3
DTSTAMP:20260422T080855Z
URL:https://business.destinationcw.org/events/details/moonlight-mistletoe-shop-hop-4227
END:VEVENT

END:VCALENDAR
