BEGIN:VCALENDAR
VERSION:2.0
PRODID:-//ChamberMaster//Event Calendar 2.0//EN
METHOD:PUBLISH
X-PUBLISHED-TTL:P3D
REFRESH-INTERVAL:P3D
CALSCALE:GREGORIAN
BEGIN:VEVENT
DTSTART:20160922T210000Z
DTEND:20160922T210000Z
X-MICROSOFT-CDO-ALLDAYEVENT:FALSE
SUMMARY:Moonlight Market Shop Hop
DESCRIPTION:Please join us in celebrating the first day of fall at the shops in Old Town Canal Winchester.  Raffle prizes\, refreshments\, shopping and fellowship!\n\n\n\nCornersmith\, Fantasy Cupcake\, Georgie Emerson Vintage\, Serendipity Sweet Shop\, Shaw's Jewelers\, Sticks and Stones Studio\, Studio 7.5\, Wagon Wheel Wines In historic downtown Canal Winchester
X-ALT-DESC;FMTTYPE=text/html:<p><span style="font-size: 20px\;">Please join us in celebrating the first day of fall at the shops in Old Town Canal Winchester.&nbsp\; Raffle prizes\, refreshments\, shopping and fellowship!<br />\n<br />\nCornersmith\, Fantasy Cupcake\, Georgie Emerson Vintage\, Serendipity Sweet Shop\, Shaw&#39\;s Jewelers\, Sticks and Stones Studio\, Studio 7.5\, Wagon Wheel Wines In historic downtown Canal Winchester</span></p>\n
LOCATION:The Shops of Historic Downtown Canal Winchester
UID:e.9051.4014
SEQUENCE:3
DTSTAMP:20260421T083115Z
URL:https://business.destinationcw.org/events/details/moonlight-market-shop-hop-4014
END:VEVENT

END:VCALENDAR
